BEGIN:VCALENDAR
VERSION:2.0
PRODID:-//34.210.83.136//NONSGML kigkonsult.se iCalcreator 2.26.9//
CALSCALE:GREGORIAN
METHOD:PUBLISH
X-WR-CALNAME:Surfrider Massachusetts Chapter
X-WR-CALDESC:Organization of surfers and environmentalists dedicated to pre
 serving the New England coastal environment\, open access to beaches\, and
  eliminating pollution
X-FROM-URL:https://massachusetts.surfrider.org
X-WR-TIMEZONE:America/New_York
BEGIN:VTIMEZONE
TZID:America/New_York
X-LIC-LOCATION:America/New_York
BEGIN:STANDARD
DTSTART:20211107T020000
TZOFFSETFROM:-0400
TZOFFSETTO:-0500
RDATE:20221106T020000
TZNAME:EST
END:STANDARD
BEGIN:DAYLIGHT
DTSTART:20210314T020000
TZOFFSETFROM:-0500
TZOFFSETTO:-0400
RDATE:20220313T020000,20230312T020000
TZNAME:EDT
END:DAYLIGHT
END:VTIMEZONE
BEGIN:VEVENT
UID:ai1ec-2010@massachusetts.surfrider.org
DTSTAMP:20210914T163445Z
CATEGORIES:
CONTACT:MA Surfrider Chair\; chair@ma.surfrider.org
DESCRIPTION:This will be a virtual meeting held via Video Conference at lea
 st through July 2020. And even when we do get back to in person meetings\,
  we’ll keep a virtual option going!\n\nPlease register for this meeting in
  advance by filling out this form. We’ll send you the meeting information 
 by email shortly before the meeting.\nIf you have any questions or trouble
 \, please contact the MA Chapter Vice Chair.\n\nJoin us for our monthly ch
 apter meeting to learn more about volunteer opportunities and the progress
  of our ongoing programs and campaigns!
DTSTART;TZID=America/New_York:20200409T183000
DTEND;TZID=America/New_York:20200409T200000
LOCATION:Remote - See Details in Description
RDATE;TZID=America/New_York:20200506T183000
RDATE;TZID=America/New_York:20200603T183000
RDATE;TZID=America/New_York:20200701T183000
RDATE;TZID=America/New_York:20200805T183000
RDATE;TZID=America/New_York:20200902T183000
RDATE;TZID=America/New_York:20201007T183000
RDATE;TZID=America/New_York:20201104T183000
RDATE;TZID=America/New_York:20201202T183000
RDATE;TZID=America/New_York:20210106T183000
RDATE;TZID=America/New_York:20210203T183000
RDATE;TZID=America/New_York:20210303T183000
RDATE;TZID=America/New_York:20210407T183000
RDATE;TZID=America/New_York:20210505T183000
RDATE;TZID=America/New_York:20210602T183000
RDATE;TZID=America/New_York:20210707T183000
RDATE;TZID=America/New_York:20210804T183000
RDATE;TZID=America/New_York:20210901T183000
RDATE;TZID=America/New_York:20211006T183000
RDATE;TZID=America/New_York:20211103T183000
RDATE;TZID=America/New_York:20211201T183000
SEQUENCE:0
SUMMARY:General Chapter Meeting – Virtual Meeting
URL:https://massachusetts.surfrider.org/event/general-chapter-meeting-2/
X-COST-TYPE:free
X-ALT-DESC;FMTTYPE=text/html:<!DOCTYPE HTML PUBLIC '-//W3C//DTD HTML 3.2//E
 N'>\\n<HTML>\\n<HEAD>\\n<TITLE></TITLE>\\n</HEAD>\\n<BODY><section class='
 '>\n<div class='container'>\n<div class='row'>\n<div class='col-xs-12 col-
 md-8 col-md-offset-2'><strong><em>This will be a virtual meeting held via 
 Video Conference at least through July 2020. And even when we do get back 
 to in person meetings\, we’ll keep a virtual option going!<br />\n</em></s
 trong></p>\n<p>Please register for this meeting in advance by filling out 
 this <a href='https://forms.gle/vYDw4vohNk3A2yKn7' target='_blank' rel='no
 opener noreferrer'>form</a>. We’ll send you the meeting information by ema
 il shortly before the meeting.</p>\n<p>If you have any questions or troubl
 e\, please contact the MA Chapter <a href='mailto:vicechair@ma.surfrider.o
 rg'>Vice Chair</a>.</p>\n<hr />\n<p>Join us for our monthly chapter meetin
 g to learn more about volunteer opportunities and the progress of our ongo
 ing programs and campaigns!</p></div>\n</div>\n</div>\n</section>\n</BODY>
 </HTML>
END:VEVENT
END:VCALENDAR
