BEGIN:VCALENDAR
VERSION:2.0
PRODID:-//34.210.83.136//NONSGML kigkonsult.se iCalcreator 2.26.9//
CALSCALE:GREGORIAN
METHOD:PUBLISH
X-WR-CALNAME:Surfrider Massachusetts Chapter
X-WR-CALDESC:Organization of surfers and environmentalists dedicated to pre
 serving the New England coastal environment\, open access to beaches\, and
  eliminating pollution
X-FROM-URL:https://massachusetts.surfrider.org
X-WR-TIMEZONE:America/New_York
BEGIN:VTIMEZONE
TZID:America/New_York
X-LIC-LOCATION:America/New_York
BEGIN:STANDARD
DTSTART:20211107T020000
TZOFFSETFROM:-0400
TZOFFSETTO:-0500
RDATE:20221106T020000
TZNAME:EST
END:STANDARD
BEGIN:DAYLIGHT
DTSTART:20210314T020000
TZOFFSETFROM:-0500
TZOFFSETTO:-0400
RDATE:20220313T020000,20230312T020000
TZNAME:EDT
END:DAYLIGHT
END:VTIMEZONE
BEGIN:VEVENT
UID:ai1ec-1715@massachusetts.surfrider.org
DTSTAMP:20210914T163658Z
CATEGORIES:
CONTACT:MA Surfrider Chair\; chair@ma.surfrider.org
DESCRIPTION:Join us for our monthly chapter meeting to learn more about vol
 unteer opportunities and the progress of our ongoing programs and campaign
 s!
DTSTART;TZID=America/New_York:20190403T183000
DTEND;TZID=America/New_York:20190403T200000
EXDATE;TZID=America/New_York:20190703T183000
EXDATE;TZID=America/New_York:20200101T183000
EXDATE;TZID=America/New_York:20200401T183000
EXDATE;TZID=America/New_York:20200506T183000
EXDATE;TZID=America/New_York:20200603T183000
EXDATE;TZID=America/New_York:20200701T183000
EXDATE;TZID=America/New_York:20200805T183000
EXDATE;TZID=America/New_York:20200902T183000
EXDATE;TZID=America/New_York:20201007T183000
EXDATE;TZID=America/New_York:20201104T183000
EXDATE;TZID=America/New_York:20201202T183000
EXDATE;TZID=America/New_York:20210106T183000
EXDATE;TZID=America/New_York:20210203T183000
EXDATE;TZID=America/New_York:20210303T183000
EXDATE;TZID=America/New_York:20210407T183000
EXDATE;TZID=America/New_York:20210505T183000
EXDATE;TZID=America/New_York:20210602T183000
EXDATE;TZID=America/New_York:20210707T183000
EXDATE;TZID=America/New_York:20210804T183000
EXDATE;TZID=America/New_York:20210901T183000
EXDATE;TZID=America/New_York:20211006T183000
EXDATE;TZID=America/New_York:20211103T183000
EXDATE;TZID=America/New_York:20211201T183000
GEO:+42.395417;-71.122274
LOCATION:Eastern Bank Community Room - Davis Square @ 250 Elm St\, Somervil
 le\, MA 02144\, USA
RRULE:FREQ=MONTHLY;BYDAY=1WE
SEQUENCE:0
SUMMARY:General Chapter Meeting
URL:https://massachusetts.surfrider.org/event/general-chapter-meeting/
X-COST-TYPE:free
X-ALT-DESC;FMTTYPE=text/html:<!DOCTYPE HTML PUBLIC '-//W3C//DTD HTML 3.2//E
 N'>\\n<HTML>\\n<HEAD>\\n<TITLE></TITLE>\\n</HEAD>\\n<BODY><section class='
 '>\n<div class='container'>\n<div class='row'>\n<div class='col-xs-12 col-
 md-8 col-md-offset-2'>Join us for our monthly chapter meeting to learn mor
 e about volunteer opportunities and the progress of our ongoing programs a
 nd campaigns!</div>\n</div>\n</div>\n</section>\n</BODY></HTML>
END:VEVENT
END:VCALENDAR
