BEGIN:VCALENDAR
VERSION:2.0
PRODID:-//54.186.229.32//NONSGML kigkonsult.se iCalcreator 2.26.9//
CALSCALE:GREGORIAN
METHOD:PUBLISH
X-WR-CALNAME:Surfrider Massachusetts Chapter
X-WR-CALDESC:Organization of surfers and environmentalists dedicated to pre
 serving the New England coastal environment\, open access to beaches\, and
  eliminating pollution
X-FROM-URL:https://massachusetts.surfrider.org
X-WR-TIMEZONE:America/New_York
BEGIN:VTIMEZONE
TZID:America/New_York
X-LIC-LOCATION:America/New_York
BEGIN:STANDARD
DTSTART:20201101T020000
TZOFFSETFROM:-0400
TZOFFSETTO:-0500
RDATE:20211107T020000
TZNAME:EST
END:STANDARD
BEGIN:DAYLIGHT
DTSTART:20210314T020000
TZOFFSETFROM:-0500
TZOFFSETTO:-0400
RDATE:20220313T020000
TZNAME:EDT
END:DAYLIGHT
END:VTIMEZONE
BEGIN:VEVENT
UID:ai1ec-1511@massachusetts.surfrider.org
DTSTAMP:20210427T211800Z
CATEGORIES:
CONTACT:MA Surfrider Chair\; chair@ma.surfrider.org
DESCRIPTION:Join us for our monthly chapter meeting to learn more about vol
 unteer opportunities and the progress of our ongoing programs and campaign
 s! This month\, the chapter is also holding elections for three executive 
 committee positions: Vice Chair\, Treasurer\, and Volunteer Coordinator.
DTSTART;TZID=America/New_York:20190102T183000
GEO:+42.395417;-71.122274
LOCATION:Eastern Bank Community Room - Davis Square @ 250 Elm St\, Somervil
 le\, MA 02144\, USA
SEQUENCE:0
SUMMARY:January Chapter Meeting
URL:https://massachusetts.surfrider.org/event/january-chapter-meeting-2019/
X-COST-TYPE:free
X-ALT-DESC;FMTTYPE=text/html:<!DOCTYPE HTML PUBLIC '-//W3C//DTD HTML 3.2//E
 N'>\\n<HTML>\\n<HEAD>\\n<TITLE></TITLE>\\n</HEAD>\\n<BODY><section class='
 '>\n<div class='container'>\n<div class='row'>\n<div class='col-xs-12 col-
 md-8 col-md-offset-2'>Join us for our monthly chapter meeting to learn mor
 e about volunteer opportunities and the progress of our ongoing programs a
 nd campaigns! This month\, the chapter is also holding <a href='https://ma
 ssachusetts.surfrider.org/surfrider-foundation-ma-elections-in-january/'>e
 lections</a> for three executive committee positions: Vice Chair\, Treasur
 er\, and Volunteer Coordinator.\n</div>\n</div>\n</div>\n</section>\n</BOD
 Y></HTML>
X-INSTANT-EVENT:1
END:VEVENT
END:VCALENDAR
